BEGIN:VCALENDAR
VERSION:2.0
PRODID:-//LasyaRasa - ECPv6.15.17.1//NONSGML v1.0//EN
CALSCALE:GREGORIAN
METHOD:PUBLISH
X-WR-CALNAME:LasyaRasa
X-ORIGINAL-URL:https://lasyarasa.com
X-WR-CALDESC:Events for LasyaRasa
REFRESH-INTERVAL;VALUE=DURATION:PT1H
X-Robots-Tag:noindex
X-PUBLISHED-TTL:PT1H
BEGIN:VTIMEZONE
TZID:UTC
BEGIN:STANDARD
TZOFFSETFROM:+0000
TZOFFSETTO:+0000
TZNAME:UTC
DTSTART:20240101T000000
END:STANDARD
END:VTIMEZONE
BEGIN:VEVENT
DTSTART;TZID=UTC:20250512T080000
DTEND;TZID=UTC:20260515T170000
DTSTAMP:20260420T223655
CREATED:20231004T134047Z
LAST-MODIFIED:20260315T234741Z
UID:21388-1747036800-1778864400@lasyarasa.com
SUMMARY:Dhara
DESCRIPTION:The Foundation of Existence\nDhara is a thematic production by LasyaRasa that celebrates the Earth as the ultimate provider and the foundation of all life. Through the grounding movements of Indian classical dance\, this performance explores the planet’s resilience\, its nurturing spirit\, and the deep-rooted connection we share with the soil beneath our feet. \nThematic Journey\nThe Nurturer: The performance highlights the Earth as a source of life and abundance. Through graceful and steady movements\, the dancers portray the planet’s silent strength as it sustains every living being with patience and unconditional care. \nThe Resilience of Nature: The choreography shifts to reflect the Earth’s endurance. Much like the planet survives the changing seasons and the passage of time\, the dance utilizes powerful stances and firm footwork to demonstrate a strength that cannot be shaken. \nThe Sacred Bond: The production concludes with a tribute to our responsibility toward the Earth. It serves as a reminder that while the Earth is a fearful force when disturbed\, it remains a soothing home that we must protect and cherish in all its forms. \nArtistic Expression\nGrounded Choreography: Dhara emphasizes the “Araimandi” (half-sit) and “Muzhumandi” (full-sit) positions of Bharatanatyam\, literally connecting the dancers to the floor to symbolize our physical bond with the Earth. \nSymbolic Storytelling: Using intricate hand gestures (Mudras)\, the dancers depict mountains\, rivers\, and the blossoming of life\, creating a vivid visual landscape of the natural world.
URL:https://lasyarasa.com/event/dhara/
LOCATION:Bentonville High School\, 1801 SE J St\, Bentonville\, AR\, 72712\, United States
CATEGORIES:Classical Dance
ATTACH;FMTTYPE=image/png:https://lasyarasa.com/wp-content/uploads/2023/10/IMG-20240922-WA0367-773x520-1.png
ORGANIZER;CN="NANMA":MAILTO:nanma.usa@gmail.com
END:VEVENT
END:VCALENDAR